BEGIN:VCALENDAR
VERSION:2.0
PRODID:-//Kudos Taproom and Fieldhouse - ECPv6.15.20//NONSGML v1.0//EN
CALSCALE:GREGORIAN
METHOD:PUBLISH
X-ORIGINAL-URL:https://kudosthegoat.com
X-WR-CALDESC:Events for Kudos Taproom and Fieldhouse
REFRESH-INTERVAL;VALUE=DURATION:PT1H
X-Robots-Tag:noindex
X-PUBLISHED-TTL:PT1H
BEGIN:VTIMEZONE
TZID:UTC
BEGIN:STANDARD
TZOFFSETFROM:+0000
TZOFFSETTO:+0000
TZNAME:UTC
DTSTART:20230101T000000
END:STANDARD
END:VTIMEZONE
BEGIN:VEVENT
DTSTART;VALUE=DATE:20241107
DTEND;VALUE=DATE:20241108
DTSTAMP:20260419T120807
CREATED:20240919T193335Z
LAST-MODIFIED:20241024T155259Z
UID:530-1730937600-1731023999@kudosthegoat.com
SUMMARY:LADIES NIGHT
DESCRIPTION:
URL:https://kudosthegoat.com/event/ladies-night-9/
LOCATION:Kudos Taproom and Fieldhouse\, 14100 Pardee Road\, Taylor\, Michigan\, 48180
CATEGORIES:Ladies Night
ATTACH;FMTTYPE=image/png:https://kudosthegoat.com/wp-content/uploads/2024/09/Ladies-Night-Orange-Door.png
END:VEVENT
END:VCALENDAR